BEGIN:VCALENDAR
VERSION:2.0
PRODID:-//DIGITAL FACTORY//EVENTS MAKER V1.6.14//EN
CALSCALE:GREGORIAN
BEGIN:VEVENT
DTEND:20260926
UID:69e78b8c1592a
DTSTAMP:20260421T143700Z
CATEGORIES:Golf Tournament
LOCATION:Talbot Trail Golf Club 790 Talbot Trail, Wheatley, Ontario, N0P 2P0, CA
DESCRIPTION:
URL;VALUE=URI:https://talbottrailgolfclub.com/events/upcoming-events/event/breast-cancer-tournament-2026/
SUMMARY:Breast Cancer Tournament 2026
DTSTART:20260926
END:VEVENT
END:VCALENDAR
