BEGIN:VCALENDAR
VERSION:2.0
PRODID:-//DIGITAL FACTORY//EVENTS MAKER V1.6.14//EN
CALSCALE:GREGORIAN
BEGIN:VEVENT
DTEND:20260704
UID:69e78b68e1ec6
DTSTAMP:20260421T143624Z
CATEGORIES:Golf Tournament
LOCATION:Talbot Trail Golf Club 790 Talbot Trail, Wheatley, Ontario, N0P 2P0, CA
DESCRIPTION:
URL;VALUE=URI:https://talbottrailgolfclub.com/events/upcoming-events/event/campers-cove-tournament-2026/
SUMMARY:Campers Cove Tournament 2026
DTSTART:20260704
END:VEVENT
END:VCALENDAR
