BEGIN:VCALENDAR
VERSION:2.0
PRODID:-//DIGITAL FACTORY//EVENTS MAKER V1.6.14//EN
CALSCALE:GREGORIAN
BEGIN:VEVENT
DTEND:20260919
UID:69e78ab051f37
DTSTAMP:20260421T143320Z
CATEGORIES:Golf Tournament
LOCATION:Talbot Trail Golf Club 790 Talbot Trail, Wheatley, Ontario, N0P 2P0, CA
DESCRIPTION:
URL;VALUE=URI:https://talbottrailgolfclub.com/events/upcoming-events/event/doc-mclean-tournament-2026/
SUMMARY:Doc McLean Tournament 2026
DTSTART:20260919
END:VEVENT
END:VCALENDAR
