BEGIN:VCALENDAR
VERSION:2.0
PRODID:-//DIGITAL FACTORY//EVENTS MAKER V1.6.14//EN
CALSCALE:GREGORIAN
BEGIN:VEVENT
DTEND:20260620
UID:69e78c9b1b9f3
DTSTAMP:20260421T144131Z
CATEGORIES:Golf Tournament
LOCATION:Talbot Trail Golf Club 790 Talbot Trail, Wheatley, Ontario, N0P 2P0, CA
DESCRIPTION:
URL;VALUE=URI:https://talbottrailgolfclub.com/events/upcoming-events/event/firefighters-tournament-2026/
SUMMARY:Firefighters Tournament 2026
DTSTART:20260620
END:VEVENT
END:VCALENDAR
