BEGIN:VCALENDAR
VERSION:2.0
PRODID:-//DIGITAL FACTORY//EVENTS MAKER V1.6.14//EN
CALSCALE:GREGORIAN
BEGIN:VEVENT
DTEND:20260911
UID:69e78b11a7752
DTSTAMP:20260421T143457Z
CATEGORIES:Golf Tournament
LOCATION:Talbot Trail Golf Club 790 Talbot Trail, Wheatley, Ontario, N0P 2P0, CA
DESCRIPTION:
URL;VALUE=URI:https://talbottrailgolfclub.com/events/upcoming-events/event/ladies-district-tournament-2026/
SUMMARY:Ladies District Tournament 2026
DTSTART:20260911
END:VEVENT
END:VCALENDAR
