BEGIN:VCALENDAR
VERSION:2.0
PRODID:-//DIGITAL FACTORY//EVENTS MAKER V1.6.14//EN
CALSCALE:GREGORIAN
BEGIN:VEVENT
DTEND:20260504T210000Z
UID:69e7ba852c784
DTSTAMP:20260421T175725Z
CATEGORIES:League - Weekly
LOCATION:Talbot Trail Golf Club 790 Talbot Trail, Wheatley, Ontario, N0P 2P0, CA
DESCRIPTION:Our league is full for the season. Start date is Monday May 4th. The tee sheet will be blocked to allow only league members on the course starting at 3:00 PM every Monday until the end of August.
URL;VALUE=URI:https://talbottrailgolfclub.com/events/upcoming-events/event/monday-night-mens-league-2026/
SUMMARY:Monday Night Men&#039\;s League 2026
DTSTART:20260504T150000Z
END:VEVENT
END:VCALENDAR
