BEGIN:VCALENDAR
VERSION:2.0
PRODID:-//DIGITAL FACTORY//EVENTS MAKER V1.6.14//EN
CALSCALE:GREGORIAN
BEGIN:VEVENT
DTEND:20260506T210000Z
UID:69e7b804c830f
DTSTAMP:20260421T174644Z
CATEGORIES:League - Weekly
LOCATION:Talbot Trail Golf Club 790 Talbot Trail, Wheatley, Ontario, N0P 2P0, CA
DESCRIPTION:Our league is full for the season. Start date is Wednesday May 6th. The tee sheet will be blocked to allow only league members on the course starting at 3:00 PM every Wednesday until the end of August.
URL;VALUE=URI:https://talbottrailgolfclub.com/events/upcoming-events/event/wednesday-night-womens-league-2025/
SUMMARY:Wednesday Night Women&#039\;s League 2026
DTSTART:20260506T150000Z
END:VEVENT
END:VCALENDAR
