BEGIN:VCALENDAR
VERSION:2.0
PRODID:-//DIGITAL FACTORY//EVENTS MAKER V1.6.14//EN
CALSCALE:GREGORIAN
BEGIN:VEVENT
DTEND:20260502T200000Z
UID:69e78bafd932b
DTSTAMP:20260421T143735Z
CATEGORIES:Golf Tournament
LOCATION:Talbot Trail Golf Club 790 Talbot Trail, Wheatley, Ontario, N0P 2P0, CA
DESCRIPTION:
URL;VALUE=URI:https://talbottrailgolfclub.com/events/upcoming-events/event/wheatley-public-school-fundraiser-tournament-2026/
SUMMARY:Wheatley Public School Fundraiser Tournament 2026
DTSTART:20260502T150000Z
END:VEVENT
END:VCALENDAR
